BEGIN:VCALENDAR
VERSION:2.0
PRODID:-//Whispering Meadows - ECPv6.15.20//NONSGML v1.0//EN
CALSCALE:GREGORIAN
METHOD:PUBLISH
X-WR-CALNAME:Whispering Meadows
X-ORIGINAL-URL:https://whisperingmeadows.org
X-WR-CALDESC:Events for Whispering Meadows
REFRESH-INTERVAL;VALUE=DURATION:PT1H
X-Robots-Tag:noindex
X-PUBLISHED-TTL:PT1H
BEGIN:VTIMEZONE
TZID:America/Chicago
BEGIN:DAYLIGHT
TZOFFSETFROM:-0600
TZOFFSETTO:-0500
TZNAME:CDT
DTSTART:20240310T080000
END:DAYLIGHT
BEGIN:STANDARD
TZOFFSETFROM:-0500
TZOFFSETTO:-0600
TZNAME:CST
DTSTART:20241103T070000
END:STANDARD
BEGIN:DAYLIGHT
TZOFFSETFROM:-0600
TZOFFSETTO:-0500
TZNAME:CDT
DTSTART:20250309T080000
END:DAYLIGHT
BEGIN:STANDARD
TZOFFSETFROM:-0500
TZOFFSETTO:-0600
TZNAME:CST
DTSTART:20251102T070000
END:STANDARD
BEGIN:DAYLIGHT
TZOFFSETFROM:-0600
TZOFFSETTO:-0500
TZNAME:CDT
DTSTART:20260308T080000
END:DAYLIGHT
BEGIN:STANDARD
TZOFFSETFROM:-0500
TZOFFSETTO:-0600
TZNAME:CST
DTSTART:20261101T070000
END:STANDARD
END:VTIMEZONE
BEGIN:VEVENT
DTSTART;TZID=America/Chicago:20251105T183000
DTEND;TZID=America/Chicago:20251105T203000
DTSTAMP:20260421T105018
CREATED:20250106T033030Z
LAST-MODIFIED:20250106T033030Z
UID:76810-1762367400-1762374600@whisperingmeadows.org
SUMMARY:HOA Annual Meeting
DESCRIPTION:
URL:https://whisperingmeadows.org/event/hoa-annual-meeting-2/
LOCATION:Clubhouse
CATEGORIES:HOA Board Meeting
END:VEVENT
BEGIN:VEVENT
DTSTART;VALUE=DATE:20251108
DTEND;VALUE=DATE:20251109
DTSTAMP:20260421T105018
CREATED:20250816T001838Z
LAST-MODIFIED:20250816T001838Z
UID:77214-1762560000-1762646399@whisperingmeadows.org
SUMMARY:Clubhouse Rental
DESCRIPTION:
URL:https://whisperingmeadows.org/event/clubhouse-rental-139/
CATEGORIES:Private Event
END:VEVENT
BEGIN:VEVENT
DTSTART;TZID=America/Chicago:20251112T113000
DTEND;TZID=America/Chicago:20251112T130000
DTSTAMP:20260421T105018
CREATED:20250916T035010Z
LAST-MODIFIED:20250916T035010Z
UID:77255-1762947000-1762952400@whisperingmeadows.org
SUMMARY:Ladies' Luncheon at Ophelia's
DESCRIPTION:
URL:https://whisperingmeadows.org/event/ladies-luncheon-at-ophelias/
END:VEVENT
BEGIN:VEVENT
DTSTART;TZID=America/Chicago:20251112T150000
DTEND;TZID=America/Chicago:20251112T160000
DTSTAMP:20260421T105018
CREATED:20250603T121420Z
LAST-MODIFIED:20250825T032529Z
UID:77109-1762959600-1762963200@whisperingmeadows.org
SUMMARY:Maintenance Committee
DESCRIPTION:
URL:https://whisperingmeadows.org/event/maintenance-committee-6/
LOCATION:Clubhouse
CATEGORIES:Maintenance Committee
END:VEVENT
BEGIN:VEVENT
DTSTART;TZID=America/Chicago:20251113T140000
DTEND;TZID=America/Chicago:20251113T150000
DTSTAMP:20260421T105018
CREATED:20250816T001940Z
LAST-MODIFIED:20250816T001940Z
UID:77216-1763042400-1763046000@whisperingmeadows.org
SUMMARY:Clubhouse Committee Meeting
DESCRIPTION:
URL:https://whisperingmeadows.org/event/clubhouse-committee-meeting-3/
LOCATION:Clubhouse
END:VEVENT
BEGIN:VEVENT
DTSTART;TZID=America/Chicago:20251113T140000
DTEND;TZID=America/Chicago:20251113T150000
DTSTAMP:20260421T105018
CREATED:20250825T033112Z
LAST-MODIFIED:20250825T033112Z
UID:77229-1763042400-1763046000@whisperingmeadows.org
SUMMARY:Clubhouse Committee
DESCRIPTION:
URL:https://whisperingmeadows.org/event/clubhouse-committee-3/
LOCATION:Clubhouse
END:VEVENT
BEGIN:VEVENT
DTSTART;TZID=America/Chicago:20251115T090000
DTEND;TZID=America/Chicago:20251115T110000
DTSTAMP:20260421T105018
CREATED:20250526T020215Z
LAST-MODIFIED:20250526T020215Z
UID:77086-1763197200-1763204400@whisperingmeadows.org
SUMMARY:Men's Coffee
DESCRIPTION:
URL:https://whisperingmeadows.org/event/mens-coffee-35/
LOCATION:Clubhouse
CATEGORIES:Men's Coffee 9-11am
END:VEVENT
BEGIN:VEVENT
DTSTART;VALUE=DATE:20251117
DTEND;VALUE=DATE:20251118
DTSTAMP:20260421T105018
CREATED:20250916T035228Z
LAST-MODIFIED:20250916T035228Z
UID:77259-1763337600-1763423999@whisperingmeadows.org
SUMMARY:Clubhouse Rental
DESCRIPTION:
URL:https://whisperingmeadows.org/event/clubhouse-rental-141/
LOCATION:Clubhouse
CATEGORIES:Private Event
END:VEVENT
BEGIN:VEVENT
DTSTART;TZID=America/Chicago:20251117T183000
DTEND;TZID=America/Chicago:20251117T200000
DTSTAMP:20260421T105018
CREATED:20250526T020436Z
LAST-MODIFIED:20250526T020436Z
UID:77089-1763404200-1763409600@whisperingmeadows.org
SUMMARY:HOA Meeting
DESCRIPTION:
URL:https://whisperingmeadows.org/event/hoa-meeting-11/
LOCATION:Clubhouse
CATEGORIES:HOA Board Meeting
END:VEVENT
BEGIN:VEVENT
DTSTART;TZID=America/Chicago:20251118T180000
DTEND;TZID=America/Chicago:20251118T193000
DTSTAMP:20260421T105018
CREATED:20250916T035146Z
LAST-MODIFIED:20250916T035146Z
UID:77257-1763488800-1763494200@whisperingmeadows.org
SUMMARY:Meal Catered by Ranchero Grande
DESCRIPTION:Time: TBD
URL:https://whisperingmeadows.org/event/meal-catered-by-ranchero-grande/
LOCATION:Clubhouse
END:VEVENT
BEGIN:VEVENT
DTSTART;VALUE=DATE:20251129
DTEND;VALUE=DATE:20251130
DTSTAMP:20260421T105018
CREATED:20250626T015956Z
LAST-MODIFIED:20250626T015956Z
UID:77139-1764374400-1764460799@whisperingmeadows.org
SUMMARY:Clubhouse Rental
DESCRIPTION:
URL:https://whisperingmeadows.org/event/clubhouse-rental-133/
CATEGORIES:Private Event
END:VEVENT
END:VCALENDAR