BEGIN:VCALENDAR
VERSION:2.0
PRODID:-//Whispering Meadows - ECPv6.15.20//NONSGML v1.0//EN
CALSCALE:GREGORIAN
METHOD:PUBLISH
X-ORIGINAL-URL:https://whisperingmeadows.org
X-WR-CALDESC:Events for Whispering Meadows
REFRESH-INTERVAL;VALUE=DURATION:PT1H
X-Robots-Tag:noindex
X-PUBLISHED-TTL:PT1H
BEGIN:VTIMEZONE
TZID:America/Chicago
BEGIN:DAYLIGHT
TZOFFSETFROM:-0600
TZOFFSETTO:-0500
TZNAME:CDT
DTSTART:20240310T080000
END:DAYLIGHT
BEGIN:STANDARD
TZOFFSETFROM:-0500
TZOFFSETTO:-0600
TZNAME:CST
DTSTART:20241103T070000
END:STANDARD
BEGIN:DAYLIGHT
TZOFFSETFROM:-0600
TZOFFSETTO:-0500
TZNAME:CDT
DTSTART:20250309T080000
END:DAYLIGHT
BEGIN:STANDARD
TZOFFSETFROM:-0500
TZOFFSETTO:-0600
TZNAME:CST
DTSTART:20251102T070000
END:STANDARD
BEGIN:DAYLIGHT
TZOFFSETFROM:-0600
TZOFFSETTO:-0500
TZNAME:CDT
DTSTART:20260308T080000
END:DAYLIGHT
BEGIN:STANDARD
TZOFFSETFROM:-0500
TZOFFSETTO:-0600
TZNAME:CST
DTSTART:20261101T070000
END:STANDARD
END:VTIMEZONE
BEGIN:VEVENT
DTSTART;VALUE=DATE:20251004
DTEND;VALUE=DATE:20251005
DTSTAMP:20260421T125439
CREATED:20250816T001522Z
LAST-MODIFIED:20250816T001522Z
UID:77207-1759536000-1759622399@whisperingmeadows.org
SUMMARY:Clubhouse Rental
DESCRIPTION:
URL:https://whisperingmeadows.org/event/clubhouse-rental-138/
CATEGORIES:Private Event
END:VEVENT
BEGIN:VEVENT
DTSTART;VALUE=DATE:20251005
DTEND;VALUE=DATE:20251006
DTSTAMP:20260421T125439
CREATED:20250626T015911Z
LAST-MODIFIED:20250626T015911Z
UID:77137-1759622400-1759708799@whisperingmeadows.org
SUMMARY:Clubhouse Rental
DESCRIPTION:
URL:https://whisperingmeadows.org/event/clubhouse-rental-121/
CATEGORIES:Private Event
END:VEVENT
BEGIN:VEVENT
DTSTART;TZID=America/Chicago:20251008T150000
DTEND;TZID=America/Chicago:20251008T160000
DTSTAMP:20260421T125439
CREATED:20250603T121328Z
LAST-MODIFIED:20250825T032608Z
UID:77107-1759935600-1759939200@whisperingmeadows.org
SUMMARY:Maintenance Committee
DESCRIPTION:
URL:https://whisperingmeadows.org/event/maintenance-committee-5/
LOCATION:Clubhouse
CATEGORIES:Maintenance Committee
END:VEVENT
BEGIN:VEVENT
DTSTART;TZID=America/Chicago:20251009T140000
DTEND;TZID=America/Chicago:20251009T150000
DTSTAMP:20260421T125439
CREATED:20250816T001642Z
LAST-MODIFIED:20250816T001642Z
UID:77209-1760018400-1760022000@whisperingmeadows.org
SUMMARY:Clubhouse Committee Meeting
DESCRIPTION:
URL:https://whisperingmeadows.org/event/clubhouse-committee-meeting-2/
END:VEVENT
BEGIN:VEVENT
DTSTART;TZID=America/Chicago:20251009T140000
DTEND;TZID=America/Chicago:20251009T150000
DTSTAMP:20260421T125439
CREATED:20250825T032927Z
LAST-MODIFIED:20250825T033005Z
UID:77226-1760018400-1760022000@whisperingmeadows.org
SUMMARY:Clubhouse Committee
DESCRIPTION:
URL:https://whisperingmeadows.org/event/clubhouse-committee-2/
LOCATION:Clubhouse
END:VEVENT
BEGIN:VEVENT
DTSTART;VALUE=DATE:20251011
DTEND;VALUE=DATE:20251012
DTSTAMP:20260421T125439
CREATED:20250526T020123Z
LAST-MODIFIED:20250526T020123Z
UID:77084-1760140800-1760227199@whisperingmeadows.org
SUMMARY:Clubhouse Rental
DESCRIPTION:
URL:https://whisperingmeadows.org/event/clubhouse-rental-130/
LOCATION:Clubhouse
CATEGORIES:Private Event
END:VEVENT
BEGIN:VEVENT
DTSTART;TZID=America/Chicago:20251013T160000
DTEND;TZID=America/Chicago:20251013T170000
DTSTAMP:20260421T125439
CREATED:20250816T001752Z
LAST-MODIFIED:20250816T001752Z
UID:77212-1760371200-1760374800@whisperingmeadows.org
SUMMARY:A&E Committee Meeting
DESCRIPTION:
URL:https://whisperingmeadows.org/event/ae-committee-meeting/
LOCATION:Clubhouse
END:VEVENT
BEGIN:VEVENT
DTSTART;TZID=America/Chicago:20251014T183000
DTEND;TZID=America/Chicago:20251014T200000
DTSTAMP:20260421T125439
CREATED:20250916T034828Z
LAST-MODIFIED:20250916T034828Z
UID:77253-1760466600-1760472000@whisperingmeadows.org
SUMMARY:Live Music - Elvis and Ladies of Country
DESCRIPTION:Time: TBD
URL:https://whisperingmeadows.org/event/live-music-elvis-and-ladies-of-country/
LOCATION:Clubhouse
END:VEVENT
BEGIN:VEVENT
DTSTART;TZID=America/Chicago:20251018T090000
DTEND;TZID=America/Chicago:20251018T110000
DTSTAMP:20260421T125439
CREATED:20250316T015440Z
LAST-MODIFIED:20250316T015440Z
UID:76991-1760778000-1760785200@whisperingmeadows.org
SUMMARY:Men's Coffee
DESCRIPTION:
URL:https://whisperingmeadows.org/event/mens-coffee-31/
LOCATION:Clubhouse
END:VEVENT
BEGIN:VEVENT
DTSTART;TZID=America/Chicago:20251020T180000
DTEND;TZID=America/Chicago:20251020T190000
DTSTAMP:20260421T125439
CREATED:20250106T032922Z
LAST-MODIFIED:20250106T032922Z
UID:76808-1760983200-1760986800@whisperingmeadows.org
SUMMARY:HOA Meeting
DESCRIPTION:
URL:https://whisperingmeadows.org/event/hoa-meeting-10/
LOCATION:Clubhouse
CATEGORIES:HOA Board Meeting
END:VEVENT
END:VCALENDAR