BEGIN:VCALENDAR
VERSION:2.0
PRODID:-//Whispering Meadows - ECPv6.15.20//NONSGML v1.0//EN
CALSCALE:GREGORIAN
METHOD:PUBLISH
X-WR-CALNAME:Whispering Meadows
X-ORIGINAL-URL:https://whisperingmeadows.org
X-WR-CALDESC:Events for Whispering Meadows
REFRESH-INTERVAL;VALUE=DURATION:PT1H
X-Robots-Tag:noindex
X-PUBLISHED-TTL:PT1H
BEGIN:VTIMEZONE
TZID:America/Chicago
BEGIN:DAYLIGHT
TZOFFSETFROM:-0600
TZOFFSETTO:-0500
TZNAME:CDT
DTSTART:20240310T080000
END:DAYLIGHT
BEGIN:STANDARD
TZOFFSETFROM:-0500
TZOFFSETTO:-0600
TZNAME:CST
DTSTART:20241103T070000
END:STANDARD
BEGIN:DAYLIGHT
TZOFFSETFROM:-0600
TZOFFSETTO:-0500
TZNAME:CDT
DTSTART:20250309T080000
END:DAYLIGHT
BEGIN:STANDARD
TZOFFSETFROM:-0500
TZOFFSETTO:-0600
TZNAME:CST
DTSTART:20251102T070000
END:STANDARD
BEGIN:DAYLIGHT
TZOFFSETFROM:-0600
TZOFFSETTO:-0500
TZNAME:CDT
DTSTART:20260308T080000
END:DAYLIGHT
BEGIN:STANDARD
TZOFFSETFROM:-0500
TZOFFSETTO:-0600
TZNAME:CST
DTSTART:20261101T070000
END:STANDARD
END:VTIMEZONE
BEGIN:VEVENT
DTSTART;VALUE=DATE:20250906
DTEND;VALUE=DATE:20250907
DTSTAMP:20260421T145202
CREATED:20250526T020018Z
LAST-MODIFIED:20250526T020018Z
UID:77082-1757116800-1757203199@whisperingmeadows.org
SUMMARY:Clubhouse Rental
DESCRIPTION:
URL:https://whisperingmeadows.org/event/clubhouse-rental-129/
LOCATION:Clubhouse
CATEGORIES:Private Event
END:VEVENT
BEGIN:VEVENT
DTSTART;VALUE=DATE:20250907
DTEND;VALUE=DATE:20250908
DTSTAMP:20260421T145202
CREATED:20250816T000738Z
LAST-MODIFIED:20250816T000738Z
UID:77194-1757203200-1757289599@whisperingmeadows.org
SUMMARY:Clubhouse Rental
DESCRIPTION:
URL:https://whisperingmeadows.org/event/clubhouse-rental-136/
CATEGORIES:Private Event
END:VEVENT
BEGIN:VEVENT
DTSTART;TZID=America/Chicago:20250908T160000
DTEND;TZID=America/Chicago:20250908T170000
DTSTAMP:20260421T145202
CREATED:20250816T001022Z
LAST-MODIFIED:20250816T001022Z
UID:77198-1757347200-1757350800@whisperingmeadows.org
SUMMARY:A&E Meeting
DESCRIPTION:
URL:https://whisperingmeadows.org/event/ae-meeting-14/
LOCATION:Clubhouse
END:VEVENT
BEGIN:VEVENT
DTSTART;TZID=America/Chicago:20250910T150000
DTEND;TZID=America/Chicago:20250910T160000
DTSTAMP:20260421T145202
CREATED:20250603T121116Z
LAST-MODIFIED:20250825T032647Z
UID:77105-1757516400-1757520000@whisperingmeadows.org
SUMMARY:Maintenance Committee
DESCRIPTION:
URL:https://whisperingmeadows.org/event/maintenance-committee-4/
LOCATION:Clubhouse
CATEGORIES:Maintenance Committee
END:VEVENT
BEGIN:VEVENT
DTSTART;TZID=America/Chicago:20250911T140000
DTEND;TZID=America/Chicago:20250911T150000
DTSTAMP:20260421T145202
CREATED:20250816T001144Z
LAST-MODIFIED:20250816T001144Z
UID:77200-1757599200-1757602800@whisperingmeadows.org
SUMMARY:Clubhouse Committee Meeting
DESCRIPTION:
URL:https://whisperingmeadows.org/event/clubhouse-committee-meeting/
LOCATION:Clubhouse
END:VEVENT
BEGIN:VEVENT
DTSTART;TZID=America/Chicago:20250911T140000
DTEND;TZID=America/Chicago:20250911T150000
DTSTAMP:20260421T145202
CREATED:20250825T032837Z
LAST-MODIFIED:20250825T032837Z
UID:77224-1757599200-1757602800@whisperingmeadows.org
SUMMARY:Clubhouse Committee
DESCRIPTION:
URL:https://whisperingmeadows.org/event/clubhouse-committee/
END:VEVENT
BEGIN:VEVENT
DTSTART;TZID=America/Chicago:20250913T090000
DTEND;TZID=America/Chicago:20250913T110000
DTSTAMP:20260421T145202
CREATED:20250916T034330Z
LAST-MODIFIED:20250916T034330Z
UID:77247-1757754000-1757761200@whisperingmeadows.org
SUMMARY:Puzzle Exchange
DESCRIPTION:
URL:https://whisperingmeadows.org/event/puzzle-exchange/
LOCATION:Clubhouse
END:VEVENT
BEGIN:VEVENT
DTSTART;TZID=America/Chicago:20250915T180000
DTEND;TZID=America/Chicago:20250915T190000
DTSTAMP:20260421T145202
CREATED:20250106T032756Z
LAST-MODIFIED:20250106T032756Z
UID:76806-1757959200-1757962800@whisperingmeadows.org
SUMMARY:HOA Meeting
DESCRIPTION:
URL:https://whisperingmeadows.org/event/hoa-meeting-9/
LOCATION:Clubhouse
CATEGORIES:HOA Board Meeting
END:VEVENT
BEGIN:VEVENT
DTSTART;TZID=America/Chicago:20250918T173000
DTEND;TZID=America/Chicago:20250918T190000
DTSTAMP:20260421T145202
CREATED:20250916T034541Z
LAST-MODIFIED:20250916T034626Z
UID:77250-1758216600-1758222000@whisperingmeadows.org
SUMMARY:Luh-Jit Food Truck
DESCRIPTION:Generously donated for all residents by Al Lenzini of Lenzini Real Estate Group.
URL:https://whisperingmeadows.org/event/food-truck-at-clubhouse/
LOCATION:Clubhouse
END:VEVENT
BEGIN:VEVENT
DTSTART;TZID=America/Chicago:20250920T090000
DTEND;TZID=America/Chicago:20250920T110000
DTSTAMP:20260421T145202
CREATED:20250316T015341Z
LAST-MODIFIED:20250316T015341Z
UID:76989-1758358800-1758366000@whisperingmeadows.org
SUMMARY:Men's Coffee
DESCRIPTION:
URL:https://whisperingmeadows.org/event/mens-coffee-30/
LOCATION:Clubhouse
END:VEVENT
BEGIN:VEVENT
DTSTART;TZID=America/Chicago:20250920T090000
DTEND;TZID=America/Chicago:20250920T110000
DTSTAMP:20260421T145202
CREATED:20250816T001259Z
LAST-MODIFIED:20250816T001259Z
UID:77202-1758358800-1758366000@whisperingmeadows.org
SUMMARY:Men's Coffee
DESCRIPTION:
URL:https://whisperingmeadows.org/event/mens-coffee-36/
LOCATION:Clubhouse
END:VEVENT
BEGIN:VEVENT
DTSTART;TZID=America/Chicago:20250920T120000
DTEND;TZID=America/Chicago:20250920T230000
DTSTAMP:20260421T145202
CREATED:20250816T001416Z
LAST-MODIFIED:20250816T001416Z
UID:77205-1758369600-1758409200@whisperingmeadows.org
SUMMARY:Clubhouse Rental
DESCRIPTION:
URL:https://whisperingmeadows.org/event/clubhouse-rental-137/
LOCATION:Clubhouse
CATEGORIES:Private Event
END:VEVENT
END:VCALENDAR