BEGIN:VCALENDAR
VERSION:2.0
PRODID:-//Whispering Meadows - ECPv6.15.20//NONSGML v1.0//EN
CALSCALE:GREGORIAN
METHOD:PUBLISH
X-ORIGINAL-URL:https://whisperingmeadows.org
X-WR-CALDESC:Events for Whispering Meadows
REFRESH-INTERVAL;VALUE=DURATION:PT1H
X-Robots-Tag:noindex
X-PUBLISHED-TTL:PT1H
BEGIN:VTIMEZONE
TZID:America/Chicago
BEGIN:DAYLIGHT
TZOFFSETFROM:-0600
TZOFFSETTO:-0500
TZNAME:CDT
DTSTART:20240310T080000
END:DAYLIGHT
BEGIN:STANDARD
TZOFFSETFROM:-0500
TZOFFSETTO:-0600
TZNAME:CST
DTSTART:20241103T070000
END:STANDARD
BEGIN:DAYLIGHT
TZOFFSETFROM:-0600
TZOFFSETTO:-0500
TZNAME:CDT
DTSTART:20250309T080000
END:DAYLIGHT
BEGIN:STANDARD
TZOFFSETFROM:-0500
TZOFFSETTO:-0600
TZNAME:CST
DTSTART:20251102T070000
END:STANDARD
BEGIN:DAYLIGHT
TZOFFSETFROM:-0600
TZOFFSETTO:-0500
TZNAME:CDT
DTSTART:20260308T080000
END:DAYLIGHT
BEGIN:STANDARD
TZOFFSETFROM:-0500
TZOFFSETTO:-0600
TZNAME:CST
DTSTART:20261101T070000
END:STANDARD
END:VTIMEZONE
BEGIN:VEVENT
DTSTART;VALUE=DATE:20250607
DTEND;VALUE=DATE:20250608
DTSTAMP:20260421T204537
CREATED:20250316T014702Z
LAST-MODIFIED:20250316T014702Z
UID:76978-1749254400-1749340799@whisperingmeadows.org
SUMMARY:Clubhouse Rental
DESCRIPTION:
URL:https://whisperingmeadows.org/event/clubhouse-rental-120/
LOCATION:Clubhouse
CATEGORIES:Private Event
END:VEVENT
BEGIN:VEVENT
DTSTART;VALUE=DATE:20250614
DTEND;VALUE=DATE:20250615
DTSTAMP:20260421T204537
CREATED:20250526T014558Z
LAST-MODIFIED:20250526T014558Z
UID:77069-1749859200-1749945599@whisperingmeadows.org
SUMMARY:Clubhouse Rental
DESCRIPTION:
URL:https://whisperingmeadows.org/event/clubhouse-rental-124/
LOCATION:Clubhouse
CATEGORIES:Private Event
END:VEVENT
BEGIN:VEVENT
DTSTART;TZID=America/Chicago:20250616T180000
DTEND;TZID=America/Chicago:20250616T190000
DTSTAMP:20260421T204537
CREATED:20241217T035227Z
LAST-MODIFIED:20241217T035227Z
UID:76796-1750096800-1750100400@whisperingmeadows.org
SUMMARY:HOA Meeting
DESCRIPTION:
URL:https://whisperingmeadows.org/event/hoa-meeting-5/
LOCATION:Clubhouse
CATEGORIES:HOA Board Meeting
END:VEVENT
BEGIN:VEVENT
DTSTART;TZID=America/Chicago:20250618T150000
DTEND;TZID=America/Chicago:20250618T160000
DTSTAMP:20260421T204537
CREATED:20250526T020736Z
LAST-MODIFIED:20250526T020736Z
UID:77095-1750258800-1750262400@whisperingmeadows.org
SUMMARY:Maintenance Committee
DESCRIPTION:
URL:https://whisperingmeadows.org/event/maintenance-committee/
LOCATION:Clubhouse
END:VEVENT
BEGIN:VEVENT
DTSTART;TZID=America/Chicago:20250621T090000
DTEND;TZID=America/Chicago:20250621T110000
DTSTAMP:20260421T204537
CREATED:20250526T015521Z
LAST-MODIFIED:20250526T015521Z
UID:77072-1750496400-1750503600@whisperingmeadows.org
SUMMARY:Men's Coffee
DESCRIPTION:
URL:https://whisperingmeadows.org/event/mens-coffee-34/
LOCATION:Clubhouse
CATEGORIES:Men's Coffee 9-11am
END:VEVENT
BEGIN:VEVENT
DTSTART;TZID=America/Chicago:20250624T133000
DTEND;TZID=America/Chicago:20250624T143000
DTSTAMP:20260421T204537
CREATED:20250626T015302Z
LAST-MODIFIED:20250626T015302Z
UID:77127-1750771800-1750775400@whisperingmeadows.org
SUMMARY:Book Exchange
DESCRIPTION:
URL:https://whisperingmeadows.org/event/book-exchange/
LOCATION:Clubhouse
END:VEVENT
BEGIN:VEVENT
DTSTART;VALUE=DATE:20250628
DTEND;VALUE=DATE:20250629
DTSTAMP:20260421T204537
CREATED:20250316T014939Z
LAST-MODIFIED:20250316T014939Z
UID:76982-1751068800-1751155199@whisperingmeadows.org
SUMMARY:Clubhouse Rental
DESCRIPTION:
URL:https://whisperingmeadows.org/event/clubhouse-rental-122/
LOCATION:Clubhouse
CATEGORIES:Private Event
END:VEVENT
BEGIN:VEVENT
DTSTART;VALUE=DATE:20250629
DTEND;VALUE=DATE:20250630
DTSTAMP:20260421T204537
CREATED:20250526T015656Z
LAST-MODIFIED:20250526T015656Z
UID:77074-1751155200-1751241599@whisperingmeadows.org
SUMMARY:Clubhouse Rental
DESCRIPTION:
URL:https://whisperingmeadows.org/event/clubhouse-rental-125/
LOCATION:Clubhouse
CATEGORIES:Private Event
END:VEVENT
END:VCALENDAR