BEGIN:VCALENDAR
VERSION:2.0
PRODID:-//Whispering Meadows - ECPv6.15.20//NONSGML v1.0//EN
CALSCALE:GREGORIAN
METHOD:PUBLISH
X-WR-CALNAME:Whispering Meadows
X-ORIGINAL-URL:https://whisperingmeadows.org
X-WR-CALDESC:Events for Whispering Meadows
REFRESH-INTERVAL;VALUE=DURATION:PT1H
X-Robots-Tag:noindex
X-PUBLISHED-TTL:PT1H
BEGIN:VTIMEZONE
TZID:America/Chicago
BEGIN:DAYLIGHT
TZOFFSETFROM:-0600
TZOFFSETTO:-0500
TZNAME:CDT
DTSTART:20240310T080000
END:DAYLIGHT
BEGIN:STANDARD
TZOFFSETFROM:-0500
TZOFFSETTO:-0600
TZNAME:CST
DTSTART:20241103T070000
END:STANDARD
BEGIN:DAYLIGHT
TZOFFSETFROM:-0600
TZOFFSETTO:-0500
TZNAME:CDT
DTSTART:20250309T080000
END:DAYLIGHT
BEGIN:STANDARD
TZOFFSETFROM:-0500
TZOFFSETTO:-0600
TZNAME:CST
DTSTART:20251102T070000
END:STANDARD
BEGIN:DAYLIGHT
TZOFFSETFROM:-0600
TZOFFSETTO:-0500
TZNAME:CDT
DTSTART:20260308T080000
END:DAYLIGHT
BEGIN:STANDARD
TZOFFSETFROM:-0500
TZOFFSETTO:-0600
TZNAME:CST
DTSTART:20261101T070000
END:STANDARD
END:VTIMEZONE
BEGIN:VEVENT
DTSTART;TZID=America/Chicago:20250507T183000
DTEND;TZID=America/Chicago:20250507T203000
DTSTAMP:20260421T224724
CREATED:20241202T031904Z
LAST-MODIFIED:20241202T031904Z
UID:76780-1746642600-1746649800@whisperingmeadows.org
SUMMARY:HOA Semi-annual Meeting
DESCRIPTION:
URL:https://whisperingmeadows.org/event/hoa-semi-annual-meeting/
LOCATION:Clubhouse
CATEGORIES:HOA Board Meeting
END:VEVENT
BEGIN:VEVENT
DTSTART;TZID=America/Chicago:20250510T090000
DTEND;TZID=America/Chicago:20250525T110000
DTSTAMP:20260421T224724
CREATED:20250526T014337Z
LAST-MODIFIED:20250526T014337Z
UID:77062-1746867600-1748170800@whisperingmeadows.org
SUMMARY:Men's Coffee
DESCRIPTION:
URL:https://whisperingmeadows.org/event/mens-coffee-33/
LOCATION:Clubhouse
CATEGORIES:Men's Coffee 9-11am
END:VEVENT
BEGIN:VEVENT
DTSTART;TZID=America/Chicago:20250515T080000
DTEND;TZID=America/Chicago:20250517T170000
DTSTAMP:20260421T224724
CREATED:20250307T235238Z
LAST-MODIFIED:20250307T235238Z
UID:76944-1747296000-1747501200@whisperingmeadows.org
SUMMARY:Community Garage Sale
DESCRIPTION:
URL:https://whisperingmeadows.org/event/community-garage-sale-3/
END:VEVENT
BEGIN:VEVENT
DTSTART;VALUE=DATE:20250517
DTEND;VALUE=DATE:20250518
DTSTAMP:20260421T224724
CREATED:20250316T012452Z
LAST-MODIFIED:20250316T012452Z
UID:76959-1747440000-1747526399@whisperingmeadows.org
SUMMARY:Clubhouse Rental
DESCRIPTION:
URL:https://whisperingmeadows.org/event/clubhouse-rental-113/
CATEGORIES:Private Event
END:VEVENT
BEGIN:VEVENT
DTSTART;VALUE=DATE:20250518
DTEND;VALUE=DATE:20250519
DTSTAMP:20260421T224724
CREATED:20250128T023517Z
LAST-MODIFIED:20250128T023517Z
UID:76883-1747526400-1747612799@whisperingmeadows.org
SUMMARY:Clubhouse Rental
DESCRIPTION:
URL:https://whisperingmeadows.org/event/clubhouse-rental-109/
CATEGORIES:Private Event
END:VEVENT
BEGIN:VEVENT
DTSTART;TZID=America/Chicago:20250519T180000
DTEND;TZID=America/Chicago:20250519T190000
DTSTAMP:20260421T224724
CREATED:20241217T035515Z
LAST-MODIFIED:20241217T035515Z
UID:76798-1747677600-1747681200@whisperingmeadows.org
SUMMARY:HOA Meeting
DESCRIPTION:
URL:https://whisperingmeadows.org/event/hoa-meeting-6/
LOCATION:Clubhouse
CATEGORIES:HOA Board Meeting
END:VEVENT
BEGIN:VEVENT
DTSTART;TZID=America/Chicago:20250520T150000
DTEND;TZID=America/Chicago:20250520T160000
DTSTAMP:20260421T224724
CREATED:20250526T014029Z
LAST-MODIFIED:20250526T014029Z
UID:77060-1747753200-1747756800@whisperingmeadows.org
SUMMARY:Finance Committee
DESCRIPTION:
URL:https://whisperingmeadows.org/event/finance-committee-2/
LOCATION:Clubhouse
END:VEVENT
BEGIN:VEVENT
DTSTART;TZID=America/Chicago:20250521T090000
DTEND;TZID=America/Chicago:20250521T120000
DTSTAMP:20260421T224724
CREATED:20250526T014437Z
LAST-MODIFIED:20250526T014437Z
UID:77064-1747818000-1747828800@whisperingmeadows.org
SUMMARY:Safety & Security
DESCRIPTION:
URL:https://whisperingmeadows.org/event/safety-security/
LOCATION:Clubhouse
END:VEVENT
BEGIN:VEVENT
DTSTART;VALUE=DATE:20250524
DTEND;VALUE=DATE:20250525
DTSTAMP:20260421T224724
CREATED:20250526T014512Z
LAST-MODIFIED:20250526T014512Z
UID:77066-1748044800-1748131199@whisperingmeadows.org
SUMMARY:Clubhouse Rental
DESCRIPTION:
URL:https://whisperingmeadows.org/event/clubhouse-rental-123/
LOCATION:Clubhouse
CATEGORIES:Private Event
END:VEVENT
BEGIN:VEVENT
DTSTART;TZID=America/Chicago:20250524T090000
DTEND;TZID=America/Chicago:20250524T110000
DTSTAMP:20260421T224724
CREATED:20250316T012549Z
LAST-MODIFIED:20250316T012549Z
UID:76961-1748077200-1748084400@whisperingmeadows.org
SUMMARY:Men's Coffee
DESCRIPTION:
URL:https://whisperingmeadows.org/event/mens-coffee-27/
LOCATION:Clubhouse
CATEGORIES:Men's Coffee 9-11am
END:VEVENT
BEGIN:VEVENT
DTSTART;TZID=America/Chicago:20250531T090000
DTEND;TZID=America/Chicago:20250531T120000
DTSTAMP:20260421T224724
CREATED:20250307T235400Z
LAST-MODIFIED:20250307T235400Z
UID:76946-1748682000-1748692800@whisperingmeadows.org
SUMMARY:Community Clean-up
DESCRIPTION:
URL:https://whisperingmeadows.org/event/community-clean-up-4/
LOCATION:Clubhouse
END:VEVENT
END:VCALENDAR