BEGIN:VCALENDAR
VERSION:2.0
PRODID:-//Whispering Meadows - ECPv6.15.20//NONSGML v1.0//EN
CALSCALE:GREGORIAN
METHOD:PUBLISH
X-ORIGINAL-URL:https://whisperingmeadows.org
X-WR-CALDESC:Events for Whispering Meadows
REFRESH-INTERVAL;VALUE=DURATION:PT1H
X-Robots-Tag:noindex
X-PUBLISHED-TTL:PT1H
BEGIN:VTIMEZONE
TZID:America/Chicago
BEGIN:DAYLIGHT
TZOFFSETFROM:-0600
TZOFFSETTO:-0500
TZNAME:CDT
DTSTART:20250309T080000
END:DAYLIGHT
BEGIN:STANDARD
TZOFFSETFROM:-0500
TZOFFSETTO:-0600
TZNAME:CST
DTSTART:20251102T070000
END:STANDARD
BEGIN:DAYLIGHT
TZOFFSETFROM:-0600
TZOFFSETTO:-0500
TZNAME:CDT
DTSTART:20260308T080000
END:DAYLIGHT
BEGIN:STANDARD
TZOFFSETFROM:-0500
TZOFFSETTO:-0600
TZNAME:CST
DTSTART:20261101T070000
END:STANDARD
BEGIN:DAYLIGHT
TZOFFSETFROM:-0600
TZOFFSETTO:-0500
TZNAME:CDT
DTSTART:20270314T080000
END:DAYLIGHT
BEGIN:STANDARD
TZOFFSETFROM:-0500
TZOFFSETTO:-0600
TZNAME:CST
DTSTART:20271107T070000
END:STANDARD
END:VTIMEZONE
BEGIN:VEVENT
DTSTART;VALUE=DATE:20260307
DTEND;VALUE=DATE:20260308
DTSTAMP:20260421T070046
CREATED:20260210T142010Z
LAST-MODIFIED:20260210T142010Z
UID:77408-1772841600-1772927999@whisperingmeadows.org
SUMMARY:Clubhouse Rental
DESCRIPTION:
URL:https://whisperingmeadows.org/event/clubhouse-rental-145/
LOCATION:Clubhouse
CATEGORIES:Private Event
END:VEVENT
BEGIN:VEVENT
DTSTART;VALUE=DATE:20260308
DTEND;VALUE=DATE:20260309
DTSTAMP:20260421T070046
CREATED:20260311T221723Z
LAST-MODIFIED:20260311T221936Z
UID:77561-1772928000-1773014399@whisperingmeadows.org
SUMMARY:Clubhouse Rental
DESCRIPTION:
URL:https://whisperingmeadows.org/event/clubhouse-rental-153/
CATEGORIES:Private Event
END:VEVENT
BEGIN:VEVENT
DTSTART;VALUE=DATE:20260315
DTEND;VALUE=DATE:20260316
DTSTAMP:20260421T070046
CREATED:20260210T142142Z
LAST-MODIFIED:20260210T142142Z
UID:77414-1773532800-1773619199@whisperingmeadows.org
SUMMARY:Clubhouse Rental
DESCRIPTION:
URL:https://whisperingmeadows.org/event/clubhouse-rental-147/
CATEGORIES:Private Event
END:VEVENT
BEGIN:VEVENT
DTSTART;VALUE=DATE:20260321
DTEND;VALUE=DATE:20260322
DTSTAMP:20260421T070046
CREATED:20260311T222034Z
LAST-MODIFIED:20260311T222034Z
UID:77564-1774051200-1774137599@whisperingmeadows.org
SUMMARY:Clubhouse Rental
DESCRIPTION:
URL:https://whisperingmeadows.org/event/clubhouse-rental-154/
CATEGORIES:Private Event
END:VEVENT
END:VCALENDAR